BEGIN:VCALENDAR
VERSION:2.0
PRODID:-//Missionswerk SILOAH e.V. - ECPv6.15.20//NONSGML v1.0//EN
CALSCALE:GREGORIAN
METHOD:PUBLISH
X-WR-CALNAME:Missionswerk SILOAH e.V.
X-ORIGINAL-URL:https://missionswerk-siloah.de
X-WR-CALDESC:Veranstaltungen für Missionswerk SILOAH e.V.
REFRESH-INTERVAL;VALUE=DURATION:PT1H
X-Robots-Tag:noindex
X-PUBLISHED-TTL:PT1H
BEGIN:VTIMEZONE
TZID:UTC
BEGIN:STANDARD
TZOFFSETFROM:+0000
TZOFFSETTO:+0000
TZNAME:UTC
DTSTART:20250101T000000
END:STANDARD
END:VTIMEZONE
BEGIN:VEVENT
DTSTART;VALUE=DATE:20260509
DTEND;VALUE=DATE:20260510
DTSTAMP:20260424T192929
CREATED:20251110T132237Z
LAST-MODIFIED:20251110T132237Z
UID:9806-1778284800-1778371199@missionswerk-siloah.de
SUMMARY:Jugendtag 2026
DESCRIPTION:
URL:https://missionswerk-siloah.de/veranstaltung/jugendtag-2026/
CATEGORIES:Jugend,Jugendtag
END:VEVENT
END:VCALENDAR